BEGIN:VCALENDAR
VERSION:2.0
PRODID:-//eventon.com NONSGML v1.0//EN
BEGIN:VEVENT
UID:69e736363ceaf
DTSTAMP:20260421T043254
DTSTART:20221001T180000Z
DTEND:20221001T230000Z
LOCATION:Toraguchi Martial Arts 15-785 Pacific Road
SUMMARY:BELT GRADING
DESCRIPTION: 
URL:https://gojubudo.com/events/belt-grading/
END:VEVENT
END:VCALENDAR