BEGIN:VCALENDAR
VERSION:2.0
PRODID:-//eventon.com NONSGML v1.0//EN
BEGIN:VEVENT
UID:69e738563cfa4
DTSTAMP:20260421T044158
DTSTART:20221025T040000Z
DTEND:20221030T035900Z
LOCATION:Toraguchi Martial Arts 15-785 Pacific Road
SUMMARY:Wear Your Halloween Costume To Class Week
DESCRIPTION: Come to class wearing your Halloween costume! We cannot wait to train with all the ghouls\,  goblins\,  princesses and ninjas!
URL:https://gojubudo.com/events/wear-your-halloween-costume-to-class-week/
END:VEVENT
END:VCALENDAR