BEGIN:VCALENDAR
VERSION:2.0
PRODID:-//eventon.com NONSGML v1.0//EN
BEGIN:VEVENT
UID:69e889abc666e
DTSTAMP:20260422T044115
DTSTART:20230204T180000Z
DTEND:20230204T230000Z
LOCATION:Toraguchi Martial Arts 15-785 Pacific Road
SUMMARY:BELT GRADING
DESCRIPTION: 
URL:https://gojubudo.com/events/belt-grading-4/
END:VEVENT
END:VCALENDAR